BEGIN:VCALENDAR
VERSION:2.0
PRODID:-//The Heritage Exchange - ECPv6.15.20//NONSGML v1.0//EN
CALSCALE:GREGORIAN
METHOD:PUBLISH
X-ORIGINAL-URL:https://theheritageexchange.com
X-WR-CALDESC:Events for The Heritage Exchange
REFRESH-INTERVAL;VALUE=DURATION:PT1H
X-Robots-Tag:noindex
X-PUBLISHED-TTL:PT1H
BEGIN:VTIMEZONE
TZID:Africa/Dar_es_Salaam
BEGIN:STANDARD
TZOFFSETFROM:+0300
TZOFFSETTO:+0300
TZNAME:EAT
DTSTART:20240101T000000
END:STANDARD
END:VTIMEZONE
BEGIN:VEVENT
DTSTART;TZID=Africa/Dar_es_Salaam:20251128T080000
DTEND;TZID=Africa/Dar_es_Salaam:20251130T170000
DTSTAMP:20260419T210223
CREATED:20251014T190722Z
LAST-MODIFIED:20251014T190722Z
UID:32227-1764316800-1764522000@theheritageexchange.com
SUMMARY:Tanzania Trade Show 2025 - 16th Edition
DESCRIPTION:TANZANIA TRADE SHOW is the main international event for all trades. Setting new highs for participation from over 20 countries & visitors from over 12 African countries\, the event is all set for its exhibitors to meet serious buyers within the 3 days. The event continues to to lead the way in showcasing the new products & technology not only to Tanzania but also to its surrounding countries. The 16th edition of the show promises to be larger & more successful for its exhibitors than ever before. \nEXHIBITORS PROFILE: Automotive\, IT\, Electronics\, Building\, Construction\, Medical\, Pharamaceutical\, Food\, Hotel SUpplies\, Consumer\, Household\, Industrial Machinery\, Safety\, Security\, Printing\, Packaging\, Plastics\, Rubber \nThe exhibition will be held at Diamond Jubilee Hall\, the perfect venue for hosting International trade exhibitions in Dar-Es-Salaam. It is spread over a vast area. Diamond Jubilee Hall Exhibition centre is one of the most attractive place for buyers and visitors as they are able to see the new brands and products under one roof. \nVISITORS PROFILE: Importers – Re-Exporters – Government Officials – Buyers – Trades – Manufacturers – Consultants – etc. \nAccording to the registration approximately 7600 business/trade/general visitors were estimated to have visited the exhibition. About 1400 overseas trade visitors were recorded who came from Britain\, Burundi\, India\, Hong Kong\, Oman\, Singapore\, South Africa\, Nigeria\, Ethiopia\, Kenya and Uganda\, Mozambique & UAE.
URL:https://theheritageexchange.com/event/tanzania-trade-show-2025-16th-edition/
LOCATION:Aga Khan Diamond Jubilee Hall\, Malik Road\, Dar es Salaam\, Tanzania
CATEGORIES:Education, Training & Skills,Travel, Tourism & Hospitality
ATTACH;FMTTYPE=image/png:https://theheritageexchange.com/wp-content/uploads/2025/10/Website-Listing-Size-SS-40.png
END:VEVENT
BEGIN:VEVENT
DTSTART;TZID=Africa/Dar_es_Salaam:20251130T080000
DTEND;TZID=Africa/Dar_es_Salaam:20251207T170000
DTSTAMP:20260419T210223
CREATED:20251029T224720Z
LAST-MODIFIED:20251029T224720Z
UID:32989-1764489600-1765126800@theheritageexchange.com
SUMMARY:2025 Ghana Trade Mission
DESCRIPTION:As a U.S. leader in Manufacturing\, Energy\, Agriculture\, Life Sciences\, and Technology\, Pennsylvania offers advanced capabilities\, innovation\, and global market access. Ghana\, one of West Africa’s fastest-growing economies\, is a gateway to the 1.5 billion population of the AfCFTA market with spending power projected to reach $2.5 2.5trillion by 2030\, and excels in sectors such as  agribusiness\,  energy\, infrastructure\, healthcare\, and digital Services
URL:https://theheritageexchange.com/event/2025-ghana-trade-mission/
CATEGORIES:Community & Activism,Culture & Heritage Experiences,Education, Training & Skills,Travel, Tourism & Hospitality
ATTACH;FMTTYPE=image/webp:https://theheritageexchange.com/wp-content/uploads/2025/10/Copy-of-Ghana-Trde-Mission-3.webp
END:VEVENT
END:VCALENDAR