BEGIN:VCALENDAR
VERSION:2.0
PRODID:-//The Heritage Exchange - ECPv6.15.20//NONSGML v1.0//EN
CALSCALE:GREGORIAN
METHOD:PUBLISH
X-WR-CALNAME:The Heritage Exchange
X-ORIGINAL-URL:https://theheritageexchange.com
X-WR-CALDESC:Events for The Heritage Exchange
REFRESH-INTERVAL;VALUE=DURATION:PT1H
X-Robots-Tag:noindex
X-PUBLISHED-TTL:PT1H
BEGIN:VTIMEZONE
TZID:Africa/Dar_es_Salaam
BEGIN:STANDARD
TZOFFSETFROM:+0300
TZOFFSETTO:+0300
TZNAME:EAT
DTSTART:20240101T000000
END:STANDARD
END:VTIMEZONE
BEGIN:VEVENT
DTSTART;TZID=Africa/Dar_es_Salaam:20251106T130000
DTEND;TZID=Africa/Dar_es_Salaam:20251106T170000
DTSTAMP:20260419T205914
CREATED:20251101T215750Z
LAST-MODIFIED:20251101T215750Z
UID:33151-1762434000-1762448400@theheritageexchange.com
SUMMARY:2025 Minority Business Council Fall Conference & Expo
DESCRIPTION:The 2025 Annual Fall MBC Conference and Expo is designed to provide education\, inspiration\, and one-on-one engagement with Hampton Roads resource partners\, procurement professionals\, and business owners looking for key opportunities to help in their quest for business excellence. Register today to save the date.
URL:https://theheritageexchange.com/event/2025-minority-business-council-fall-conference-expo/
CATEGORIES:Community & Activism,Culture & Heritage Experiences,Education, Training & Skills
ATTACH;FMTTYPE=image/png:https://theheritageexchange.com/wp-content/uploads/2025/11/Website-Listing-Size-SS-42.png
END:VEVENT
END:VCALENDAR