BEGIN:VCALENDAR
VERSION:2.0
PRODID:-//The Heritage Exchange - ECPv6.15.20//NONSGML v1.0//EN
CALSCALE:GREGORIAN
METHOD:PUBLISH
X-WR-CALNAME:The Heritage Exchange
X-ORIGINAL-URL:https://theheritageexchange.com
X-WR-CALDESC:Events for The Heritage Exchange
REFRESH-INTERVAL;VALUE=DURATION:PT1H
X-Robots-Tag:noindex
X-PUBLISHED-TTL:PT1H
BEGIN:VTIMEZONE
TZID:Africa/Dar_es_Salaam
BEGIN:STANDARD
TZOFFSETFROM:+0300
TZOFFSETTO:+0300
TZNAME:EAT
DTSTART:20240101T000000
END:STANDARD
END:VTIMEZONE
BEGIN:VEVENT
DTSTART;VALUE=DATE:20250910
DTEND;VALUE=DATE:20250913
DTSTAMP:20260420T003106
CREATED:20250923T001420Z
LAST-MODIFIED:20251001T033423Z
UID:31696-1757462400-1757721599@theheritageexchange.com
SUMMARY:8th Dent Expo
DESCRIPTION:East Africa’s 8th Dent Expo (International Trade Exhibition on Dental Products\, Equipment\, Instruments\, Material and Services) launched in Tanzania concurrently with the 25th Medexpo Tanzania 2025. \nDentexpo has been branched out from MEDEXPO\, Tanzania’s prime medical trade event. The event will cater to the dental industry of the entire East African region showcasing the latest in the products and technology.
URL:https://theheritageexchange.com/event/8th-dent-expo/
LOCATION:Aga Khan Diamond Jubilee Hall\, Malik Road\, Dar es Salaam\, Tanzania
CATEGORIES:Education, Training & Skills,Lifestyle, Health & Beauty
ATTACH;FMTTYPE=image/png:https://theheritageexchange.com/wp-content/uploads/2025/08/Angola.png
ORGANIZER;CN="The Tanzania (TZ) Connection":MAILTO:info@TheTZConnection.com
END:VEVENT
END:VCALENDAR