BEGIN:VCALENDAR
VERSION:2.0
PRODID:-//The Heritage Exchange - ECPv6.15.20//NONSGML v1.0//EN
CALSCALE:GREGORIAN
METHOD:PUBLISH
X-WR-CALNAME:The Heritage Exchange
X-ORIGINAL-URL:https://theheritageexchange.com
X-WR-CALDESC:Events for The Heritage Exchange
REFRESH-INTERVAL;VALUE=DURATION:PT1H
X-Robots-Tag:noindex
X-PUBLISHED-TTL:PT1H
BEGIN:VTIMEZONE
TZID:Africa/Dar_es_Salaam
BEGIN:STANDARD
TZOFFSETFROM:+0300
TZOFFSETTO:+0300
TZNAME:EAT
DTSTART:20240101T000000
END:STANDARD
END:VTIMEZONE
BEGIN:VEVENT
DTSTART;TZID=Africa/Dar_es_Salaam:20251114T080000
DTEND;TZID=Africa/Dar_es_Salaam:20251115T170000
DTSTAMP:20260419T214705
CREATED:20251029T221223Z
LAST-MODIFIED:20251029T221223Z
UID:32970-1763107200-1763226000@theheritageexchange.com
SUMMARY:23rd Annual HBCU Fest 2025
DESCRIPTION:For 23 years strong\, the @alfredstreetbc ASBC HBCU Festival has opened doors\, built futures\, and celebrated Black excellence. 🖤 \nDon’t miss the legacy continue November 14–15\, 2025. Sponsored by Google. #HBCUFest2025
URL:https://theheritageexchange.com/event/23rd-annual-hbcu-fest-2025/
CATEGORIES:Community & Activism,Culture & Heritage Experiences,Education, Training & Skills
ATTACH;FMTTYPE=image/png:https://theheritageexchange.com/wp-content/uploads/2025/10/Screenshot-2025-10-29-at-6.09.56-PM.png
END:VEVENT
BEGIN:VEVENT
DTSTART;TZID=Africa/Dar_es_Salaam:20251114T080000
DTEND;TZID=Africa/Dar_es_Salaam:20251116T170000
DTSTAMP:20260419T214705
CREATED:20251029T214546Z
LAST-MODIFIED:20251029T214546Z
UID:32964-1763107200-1763312400@theheritageexchange.com
SUMMARY:3rd Annual Hip Hop Studies Conference
DESCRIPTION:Registration is now open for the 2025 Howard University Hip-Hop Conference! \n🎤 Theme: Respect the Technique: Hip-Hop and Technology\n🗓️ Dates: November 14–16\, 2025\n📍 Location: Howard University\, Washington\, DC \nThis year’s conference will bring together artists\, scholars\, technologists\, and students for a dynamic weekend of panels\, workshops\, and film showings examining how technology is reshaping Hip-Hop culture and creative practice. \n✨ Admission:\n• $50 – General Public\n• FREE – Students \n🏨 Official Conference Hotels (special rates available): Eaton DC | Hyatt Place Washington\, DC/US Capitol | Hyatt House Washington DC / Downtown / Convention Center \n🎉 Opening Reception: Eaton DC \n🔗 Register now: HUHipHop.eventbrite.com
URL:https://theheritageexchange.com/event/3rd-annual-hip-hop-studies-conference/
CATEGORIES:Community & Activism,Culture & Heritage Experiences,Education, Training & Skills,Music, Film & Entertainment
ATTACH;FMTTYPE=image/png:https://theheritageexchange.com/wp-content/uploads/2025/10/Screenshot-2025-10-29-at-5.32.16-PM.png
END:VEVENT
BEGIN:VEVENT
DTSTART;TZID=Africa/Dar_es_Salaam:20251115T180000
DTEND;TZID=Africa/Dar_es_Salaam:20251116T000000
DTSTAMP:20260419T214705
CREATED:20251029T222454Z
LAST-MODIFIED:20251029T222454Z
UID:32978-1763229600-1763251200@theheritageexchange.com
SUMMARY:Maryland Black Chamber of Commerce (MBCC) 10th Year Anniversary Gala
DESCRIPTION:The vision of the MBCC is to offer strategic support for starting\, sustaining\, and growing successful black businesses in Maryland. We do this by offering networking opportunities\, affinity groups\, resources\, and partnerships with organizations that provide training\, workshops\, coaching\, and funding assistance.
URL:https://theheritageexchange.com/event/maryland-black-chamber-of-commerce-mbcc-10th-year-anniversary-gala/
CATEGORIES:Community & Activism,Culture & Heritage Experiences,Music, Film & Entertainment,Seasonal & Holiday Events,Travel, Tourism & Hospitality
ATTACH;FMTTYPE=image/png:https://theheritageexchange.com/wp-content/uploads/2025/10/10-yr-gala-flyer.png
END:VEVENT
END:VCALENDAR